BEGIN:VCALENDAR
VERSION:2.0
PRODID:-//eventon.com NONSGML v1.0//EN
BEGIN:VEVENT
UID:69e765c28756f
DTSTAMP:20260421T125546
DTSTART:20260927T220000Z
DTEND:20260928T050000Z
TZID:Pacific/Midway
LOCATION:Werl Marktplatz
SUMMARY:Werl
DESCRIPTION: Werl\nhttps://holland-markt.nl/Holland-markt/werl/
URL:https://holland-markt.nl/Holland-markt/werl/
END:VEVENT
END:VCALENDAR