BEGIN:VCALENDAR
VERSION:2.0
PRODID:-//eventon.com NONSGML v1.0//EN
BEGIN:VEVENT
UID:69e5a8e3c768d
DTSTAMP:20260420T051739
DTSTART:20260920T090000Z
DTEND:20260920T160000Z
TZID:Europe/Berlin
LOCATION:Rauderfehn Schwarzmoorstraße
SUMMARY:Rhauderfehn
DESCRIPTION: Rhauderfehn\nhttps://holland-markt.nl/Holland-markt/rhauderfehn-bei-bockmann-modehaus/
URL:https://holland-markt.nl/Holland-markt/rhauderfehn-bei-bockmann-modehaus/
END:VEVENT
END:VCALENDAR