BEGIN:VCALENDAR
VERSION:2.0
PRODID:-//eventon.com NONSGML v1.0//EN
BEGIN:VEVENT
UID:69e8c42b6e26e
DTSTAMP:20260422T135051
DTSTART:20261101T100000Z
DTEND:20261101T170000Z
TZID:Europe/Paris
LOCATION:
SUMMARY:IST FREI ZU BUCHEN
DESCRIPTION: IST FREI ZU BUCHEN\nhttps://holland-markt.nl/Holland-markt/noch-zu-buchen-4/
URL:https://holland-markt.nl/Holland-markt/noch-zu-buchen-4/
END:VEVENT
END:VCALENDAR