BEGIN:VCALENDAR
VERSION:2.0
PRODID:-//eventon.com NONSGML v1.0//EN
BEGIN:VEVENT
UID:69ebcbe2c704c
DTSTAMP:20260424T210034
DTSTART:20250105T220000Z
DTEND:20250106T050000Z
TZID:Pacific/Midway
LOCATION:
SUMMARY:Menden
DESCRIPTION: 8\nhttps://holland-markt.nl/Holland-markt/noch-zu-buchen/
URL:https://holland-markt.nl/Holland-markt/noch-zu-buchen/
END:VEVENT
END:VCALENDAR